BEGIN:VCALENDAR
VERSION:2.0
PRODID:-//Howth Primary School, Scoil Mhuire - ECPv4.6//NONSGML v1.0//EN
CALSCALE:GREGORIAN
METHOD:PUBLISH
X-WR-CALNAME:Howth Primary School, Scoil Mhuire
X-ORIGINAL-URL:http://howthprimaryschool.ie
X-WR-CALDESC:Events for Howth Primary School, Scoil Mhuire
BEGIN:VEVENT
DTSTART;VALUE=DATE:20170926
DTEND;VALUE=DATE:20170926
DTSTAMP:20171024T023859
CREATED:20170921T184601Z
LAST-MODIFIED:20170921T184601Z
UID:771-1506384000-1506470399@howthprimaryschool.ie
SUMMARY:Junior Boys GAA match away @ 2.30 p.m.
DESCRIPTION:The Junior Boys GAA team will play D7 Educate Together in Grangegorman (DIT pitches) on Tuesday 26th September\, throw in @ 2.30 p.m.\nLifts required. Team will leave school at 1.30 p.m. \n
URL:http://howthprimaryschool.ie/?tribe_events=junior-boys-gaa-match-away-2-30-p-m
LOCATION:DIT Grangegorman\, Grangegorman Lower\, Dublin\, Ireland
END:VEVENT
BEGIN:VEVENT
DTSTART;VALUE=DATE:20170926
DTEND;VALUE=DATE:20170926
DTSTAMP:20171024T023859
CREATED:20170924T192848Z
LAST-MODIFIED:20170924T193054Z
UID:811-1506384000-1506470399@howthprimaryschool.ie
SUMMARY:Gaelic Training
DESCRIPTION:Starting Tuesday 26th September the new G.P.O. (Gaelic Promotions Officer) Paddy Gorey will start training 2nd\, 3rd and 4th classes. Please remember your PE gear and gum shields. \nKind regards\,\nMs Heerey. \n
URL:http://howthprimaryschool.ie/?tribe_events=gaelic-training
END:VEVENT
BEGIN:VEVENT
DTSTART;VALUE=DATE:20170927
DTEND;VALUE=DATE:20170927
DTSTAMP:20171024T023859
CREATED:20170921T183658Z
LAST-MODIFIED:20170925T184711Z
UID:765-1506470400-1506556799@howthprimaryschool.ie
SUMMARY:Senior Girls GAA match @ 3.00 p.m.
DESCRIPTION:The Senior Girls GAA team have a match against St Fintan NS on Wednesday 27th September\, throw in 3.00 p.m. \n
URL:http://howthprimaryschool.ie/?tribe_events=senior-girls-gaa-match-2-30-p-m
LOCATION:Pairc O'Ruairc\, Balkhill Road\, Dublin\, Ireland
END:VEVENT
BEGIN:VEVENT
DTSTART;VALUE=DATE:20170927
DTEND;VALUE=DATE:20170927
DTSTAMP:20171024T023859
CREATED:20170922T125130Z
LAST-MODIFIED:20170922T125130Z
UID:785-1506470400-1506556799@howthprimaryschool.ie
SUMMARY:Parents Association AGM
DESCRIPTION:The Parents Association AGM will take place on Wednesday 27th September in the school PE hall. All parents welcome. \n
URL:http://howthprimaryschool.ie/?tribe_events=parents-association-agm
END:VEVENT
BEGIN:VEVENT
DTSTART;VALUE=DATE:20170927
DTEND;VALUE=DATE:20170927
DTSTAMP:20171024T023859
CREATED:20170922T125349Z
LAST-MODIFIED:20170922T125415Z
UID:787-1506470400-1506556799@howthprimaryschool.ie
SUMMARY:After School Orchestra
DESCRIPTION:The After School Orchestra will start back on Wednesday 27th September in the school PE hall at 2.40 p.m. \n
URL:http://howthprimaryschool.ie/?tribe_events=after-school-orchestra
END:VEVENT
BEGIN:VEVENT
DTSTART;VALUE=DATE:20170928
DTEND;VALUE=DATE:20170928
DTSTAMP:20171024T023859
CREATED:20170921T183943Z
LAST-MODIFIED:20170921T184900Z
UID:769-1506556800-1506643199@howthprimaryschool.ie
SUMMARY:Senior Boys GAA match @ 12.45 p.m.
DESCRIPTION:The Senior Boys GAA team have a match against Virgin Mary Boys on Thursday 28th September\, throw in 12.45 p.m. \n
URL:http://howthprimaryschool.ie/?tribe_events=senior-boys-gaa-match-12-45-p-m
LOCATION:Pairc O'Ruairc\, Balkhill Road\, Dublin\, Ireland
END:VEVENT
BEGIN:VEVENT
DTSTART;VALUE=DATE:20171004
DTEND;VALUE=DATE:20171004
DTSTAMP:20171024T023859
CREATED:20170928T184150Z
LAST-MODIFIED:20170928T184416Z
UID:837-1507075200-1507161599@howthprimaryschool.ie
SUMMARY:Junior Boys GAA match @ 2.30 p.m.
DESCRIPTION:Junior boys play Gaeilscoil Barra in Howth next Wednesday 4th October. Throw-in 2.30 p.m. \n
URL:http://howthprimaryschool.ie/?tribe_events=junior-boys-gaa-match-2-30-p-m
LOCATION:Pairc O'Ruairc\, Balkhill Road\, Dublin\, Ireland
CATEGORIES:Sports
END:VEVENT
BEGIN:VEVENT
DTSTART;VALUE=DATE:20171005
DTEND;VALUE=DATE:20171005
DTSTAMP:20171024T023859
CREATED:20171002T124653Z
LAST-MODIFIED:20171002T124654Z
UID:858-1507161600-1507247999@howthprimaryschool.ie
SUMMARY:Conker Competition
DESCRIPTION:To mark the start of autumn the children from 3rd to 6th class will be having a Conker Competition on Thursday 5th October.  Each class will have their own in class competition.\n
URL:http://howthprimaryschool.ie/?tribe_events=conker-competition
END:VEVENT
BEGIN:VEVENT
DTSTART;VALUE=DATE:20171006
DTEND;VALUE=DATE:20171006
DTSTAMP:20171024T023859
CREATED:20170928T184344Z
LAST-MODIFIED:20171004T074850Z
UID:839-1507248000-1507334399@howthprimaryschool.ie
SUMMARY:Senior Boys GAA match forfeited by opponents
DESCRIPTION:I have been advised that our opponents have forfeited the fixture set for Friday.\n\nAs a result the Senior Boys advance to the Cup quarter final which will be played next week.\n\nMatch details to follow shortly.\n\nKind regards\n\nMr Burke\n
URL:http://howthprimaryschool.ie/?tribe_events=senior-boys-gaa-match-2-35-p-m
LOCATION:Fingallians GAA grounds\, Seatown West\, Swords\, Dublin\, Ireland
CATEGORIES:Sports
END:VEVENT
BEGIN:VEVENT
DTSTART;VALUE=DATE:20171010
DTEND;VALUE=DATE:20171010
DTSTAMP:20171024T023859
CREATED:20171006T130252Z
LAST-MODIFIED:20171006T130348Z
UID:881-1507593600-1507679999@howthprimaryschool.ie
SUMMARY:Junior Boys GAA match
DESCRIPTION:The Junior Boys play this coming Tuesday\, 10th October at home vs Scoil Ui Chonail. \nThrow in 1.30 p.m.  \nThis top of the table clash with ultimately decide the outright division winner.\nPanel will be posted Monday. \nKind regards \nMr.Burke \n
URL:http://howthprimaryschool.ie/?tribe_events=junior-boys-gaa-match
LOCATION:Pairc O'Ruairc\, Balkhill Road\, Dublin\, Ireland
CATEGORIES:Sports
END:VEVENT
BEGIN:VEVENT
DTSTART;VALUE=DATE:20171011
DTEND;VALUE=DATE:20171011
DTSTAMP:20171024T023859
CREATED:20170926T202802Z
LAST-MODIFIED:20170926T202945Z
UID:826-1507680000-1507766399@howthprimaryschool.ie
SUMMARY:Brothers Schools Cross Country
DESCRIPTION:Athletes from 5th and 6th class will take part in the Brothers Cross Country race in Santry Demense on Wednesday 11th October. \nAthletes will leave the school at 11.00 a.m. \nRaces begin at 12.00 p.m. \n
URL:http://howthprimaryschool.ie/?tribe_events=brothers-schools-cross-country
LOCATION:Santry Demense\, Santry\, Dublin\, Ireland
END:VEVENT
BEGIN:VEVENT
DTSTART;VALUE=DATE:20171011
DTEND;VALUE=DATE:20171011
DTSTAMP:20171024T023859
CREATED:20171006T125316Z
LAST-MODIFIED:20171006T130558Z
UID:877-1507680000-1507766399@howthprimaryschool.ie
SUMMARY:Senior Boys GAA quarter final match
DESCRIPTION:\n\n\nSenior Boys Cumann na mBunscol quarter final has been fixed for next Wednesday 11th October in Dartry Park (beside Miltown) throwing in at 2 p.m. vs GS Lios na nNog.\n\nLifts for 20 will be needed leaving at 12.55pm.\nPlease find attached match day panel.\n\nKind regards\n\nMr. Burke\n\nQF Senior Panel\n\n\n\n\n\n
URL:http://howthprimaryschool.ie/?tribe_events=senior-boys-gaa-quarter-final-match
LOCATION:Dartry Park\, Dartry\,\, Dublin\, Ireland
CATEGORIES:Sports
END:VEVENT
BEGIN:VEVENT
DTSTART;VALUE=DATE:20171012
DTEND;VALUE=DATE:20171012
DTSTAMP:20171024T023859
CREATED:20170924T192724Z
LAST-MODIFIED:20170924T192725Z
UID:809-1507766400-1507852799@howthprimaryschool.ie
SUMMARY:Bug Busters Talk @ 8 p.m.
DESCRIPTION:There is a parent&#8217;s evening on Thursday 12th October at 8 p.m. in the PE hall\, where parents will be given a talk\, demonstration and free bug busting kit.\nAs headlice can be a huge problem in schools\, it is essential that as many parents as possible attend this evening so that we can put a planned programme in place. \nKind Regards.\nClaire Mannix (Health & Safety Rep) \n
URL:http://howthprimaryschool.ie/?tribe_events=bug-busters-talk-8-p-m
LOCATION:Scoil Mhuire\, Tuckett's Lane\, Howth\, Dublin\, Ireland
END:VEVENT
BEGIN:VEVENT
DTSTART;VALUE=DATE:20171012
DTEND;VALUE=DATE:20171012
DTSTAMP:20171024T023859
CREATED:20171010T204053Z
LAST-MODIFIED:20171010T204054Z
UID:904-1507766400-1507852799@howthprimaryschool.ie
SUMMARY:Senior Girls GAA Quarter Final Match
DESCRIPTION:The Senior Girls GAA team will play their quarter final match against Scoil Mhuire GNS on Thursday 12th October. \nThrow in at 1 p.m. \nThe team will leave the school at 11.30 a.m. \nLifts for 21 needed &#8211; we would very much appreciate if you can advise if you can offer lifts. \nPlease see below for team panel \nExpected return time school &#8211; 3.15 p.m.  \nDon&#8217;t forget your boots\, gum shields and gloves \nKind regards\, \nMs Heerey\, Ms Nugent\, Ms Fagan-Barrett \n \n
URL:http://howthprimaryschool.ie/?tribe_events=senior-girls-gaa-quarter-final-match
LOCATION:Sarsfield GAA Club\, Ballymakaily\, Lucan\, Dublin\, Ireland
CATEGORIES:Sports
END:VEVENT
BEGIN:VEVENT
DTSTART;VALUE=DATE:20171013
DTEND;VALUE=DATE:20171013
DTSTAMP:20171024T023859
CREATED:20170922T124654Z
LAST-MODIFIED:20170922T124736Z
UID:783-1507852800-1507939199@howthprimaryschool.ie
SUMMARY:School closed
DESCRIPTION:Dear parents/guardians\, \nThe Department of Education & Skills has informed us that there will be a Primary Language Curriculum Training Day on Friday 13th October for Teaching Staff. The school will be closed on that day \nKind regards \nMr Chambers & Ms Heerey \n\n\n\n
URL:http://howthprimaryschool.ie/?tribe_events=school-closed
END:VEVENT
BEGIN:VEVENT
DTSTART;VALUE=DATE:20171017
DTEND;VALUE=DATE:20171017
DTSTAMP:20171024T023859
CREATED:20171013T195126Z
LAST-MODIFIED:20171016T154531Z
UID:950-1508198400-1508284799@howthprimaryschool.ie
SUMMARY:abi Parents Workshop Postponed
DESCRIPTION:\nWe will be implementing the Anti Bullying Institute (abi) Programme in Howth Primary School\, Scoil Mhuire during the coming weeks.\n\nThe abi Programme is an annual programme\, which teaches children how to make correct behavioural choices to enhance their emotional intelligence\, well being and enhances compassion and empathy within their social groups. \nAs part of the implementation you are invited to the abi parents workshop on Tuesday 17th October at 8.00 p.m. \nThis workshop focuses on understanding the social phenomenon of bullying behaviour from a parent&#8217;s perspective and giving parents the correct tools to deal with any bullying problems without anger or blameful reaction. \n
URL:http://howthprimaryschool.ie/?tribe_events=abi-parents-workshop
LOCATION:Scoil Mhuire\, Tuckett's Lane\, Howth\, Dublin\, Ireland
END:VEVENT
BEGIN:VEVENT
DTSTART;VALUE=DATE:20171020
DTEND;VALUE=DATE:20171020
DTSTAMP:20171024T023859
CREATED:20171012T145034Z
LAST-MODIFIED:20171012T145034Z
UID:945-1508457600-1508543999@howthprimaryschool.ie
SUMMARY:Mathshatter Competition
DESCRIPTION:To celebrate Maths week\, 14th to 22nd October\, the school are having a Mathshatter Competition. \nThe children are asked to design a hat with a maths theme. Lots of ideas on Pinterest. \nAll entries need to be brought into school next Friday 20th October for a class hat display. \nSo get creative. \n
URL:http://howthprimaryschool.ie/?tribe_events=mathshatter-competition
END:VEVENT
BEGIN:VEVENT
DTSTART;VALUE=DATE:20171025
DTEND;VALUE=DATE:20171025
DTSTAMP:20171024T023859
CREATED:20171023T145207Z
LAST-MODIFIED:20171023T145726Z
UID:985-1508889600-1508975999@howthprimaryschool.ie
SUMMARY:Junior Boys GAA match
DESCRIPTION:The Junior Boys GAA team will play away to GS Ui Earcain on Wednesday 25th October. \n\nThrow in at 2.30 p.m. \nLeaving school at 1.30 p.m.  \nExpected return time to school is circa 4.15 p.m. \nLifts for 20 will be required and team will be advised after training on Monday &#8211; many thanks in advance \nDon&#8217;t forget your boots\, gum shields and gloves \nKind regards \nMr Burke \n\n
URL:http://howthprimaryschool.ie/?tribe_events=junior-boys-gaa-match-2
CATEGORIES:Sports
END:VEVENT
BEGIN:VEVENT
DTSTART;VALUE=DATE:20171026
DTEND;VALUE=DATE:20171026
DTSTAMP:20171024T023859
CREATED:20171023T145628Z
LAST-MODIFIED:20171023T145638Z
UID:989-1508976000-1509062399@howthprimaryschool.ie
SUMMARY:Senior Boys GAA tournament
DESCRIPTION:The Senior Boys GAA team will compete in the Scoil Assaim Tournament on Thursday 26th October. \nThe tournament will start at 12.30 p.m. and finish at 2.00 p.m. \n\nThe team will leave the school at 11.45 a.m. and will expect to return to the school at 2.25 p.m. \nLifts for 18 will be required and team will be advised on Monday &#8211; many thanks in advance \nDon&#8217;t forget your boots\, gum shields and gloves \nKind regards \nMr Burke \n\n
URL:http://howthprimaryschool.ie/?tribe_events=senior-boys-gaa-tournament
END:VEVENT
END:VCALENDAR